Workbook

Sheet USE OF DATA
C1: WHAT DO USERS WANT?
C2: MAIN USE OF DATA | D2: WHAT DATA SHOULD I USE? | E2: WORKSHEET
B3: 1 | C3: Policy Formulations | D3: The original unadjusted series and all components | E3: Original_VA
B4: 2 | C4: Macro-economic model building | D4: Could be Unadjusted, adjusted, trend-cycle or all components depending on the main purpose of the model | E4: Original_VA, Deseason_VA, Trend_VA
B5: 3 | C5: To determine what actually happened | D5: The original unadjusted series | E5: Original_VA
B6: 4 | C6: Analysis of the effect of particular events such as a strike | D6: The irregular component | E6: Deseason_VA and Trend_VA
B7: 5 | C7: Business Cycle analysis & detection of turning points | D7: Trend-cycle and irregular component | E7: Trend_VA
B8: 6 | C8: Short-term and medium term forecasting | D8: Original unadjusted series and all its components | E8: Original_VA
B9: 7 | C9: Long-term forecasting | D9: The trend cycle component | E9: Trend_VA
C12: Notes:
B13: a | C13: Original (Unadjusted) estimates have been benchmarked to the revised 2024/25 Annual GDP estimates (October release 2025) and therefore revisions have been made to all Quarters of 2024/25.
B14: b | C14: Revisions in series of Food Crops, Cash crops, Trade & Repairs, Food & Accommodation service and Financial & Insurance Services were due to benchmarking the estimates
B15: c | C15: Seasonally adjusted data are subject to revisions as future data become available, even when the original data are not revised.
B16: d | C16: Seasonally adjusted and Trend-cycle estimates represent an analytical elaboration of the data designed to show the underlying movements that may be hidden by the seasonal variations.
B17: e | C17: Seasonally adjusted data is the sum of the Trend-cycle component and the Irregular component. When the Irregular component is strong, the Seasonally adjusted series may not present a smooth pattern.
B18: f | C18: Original (Unadjusted) data are useful in their own right. They show the actual economic events that have occurred and therefore Seasonally adjusted data should not replace the unadjusted data.

Sheet Summary
A2: TABLE 1: SUMMARY OF QGDP AT CONSTANT 2016/17 PRICES, BILLION SHILLINGS, 2016/17-2024/25
A3: Year | B3: 2016/17 | F3: 2017/18 | G3: 2017/18 | J3: 2018/19 | N3: 2019/20 | R3: 2020/21 | V3: 2021/22 | Z3: 2022/23 | AD3: 2023/24 | AH3: 2024/25
A4: Period | B4: Q1 | C4: Q2 | D4: Q3 | E4: Q4 | F4: Q1 | G4: Q2 | H4: Q3 | I4: Q4 | J4: Q1 | K4: Q2 | L4: Q3 | M4: Q4 | N4: Q1 | O4: Q2 | P4: Q3 | Q4: Q4 | R4: Q1 | S4: Q2 | T4: Q3 | U4: Q4 | V4: Q1 | W4: Q2 | X4: Q3 | Y4: Q4 | Z4: Q1 | AA4: Q2 | AB4: Q3 | AC4: Q4 | AD4: Q1 | AE4: Q2 | AF4: Q3 | AG4: Q4 | AH4: Q1 | AI4: Q2 | AJ4: Q3 | AK4: Q4
A5: ORIGINAL ESTIMATES
A6: GDP at market prices | B6: 28577.25 | C6: 26610.224 | D6: 26240.151 | E6: 27090.416 | F6: 30772.211 | G6: 28335.282 | H6: 27653.33 | I6: 28598.112 | J6: 32487.628 | K6: 29958.638 | L6: 29773.221 | M6: 30567.116 | N6: 34943.76 | O6: 32466.476 | P6: 30130.098 | Q6: 28870.078 | R6: 34802.79 | S6: 32477.032 | T6: 30975.068 | U6: 32626.128 | V6: 35622.479 | W6: 34024.497 | X6: 32716.622 | Y6: 34522.269 | Z6: 38746.74 | AA6: 35491.988 | AB6: 33446.221 | AC6: 36506.48 | AD6: 41068.053 | AE6: 37544.269 | AF6: 35728.81 | AG6: 38581.926 | AH6: 43605.801 | AI6: 39557.92 | AJ6: 38728.024 | AK6: 40714.112
A7: Agriculture, Forestry & Fishing | B7: 8012.3898 | C7: 6110.5575 | D7: 5359.3298 | E7: 5974.7915 | F7: 8783.7536 | G7: 6199.5724 | H7: 5495.0897 | I7: 6096.0101 | J7: 8974.6097 | K7: 6448.4413 | L7: 5935.2774 | M7: 6628.7289 | N7: 9517.4185 | O7: 6941.2508 | P7: 5858.4835 | Q7: 7019.6669 | R7: 10178.838 | S7: 7480.0515 | T7: 5874.7257 | U7: 7070.5839 | V7: 10624.95 | W7: 7330.892 | X7: 6120.4466 | Y7: 7804.9868 | Z7: 11088.263 | AA7: 8197.4364 | AB7: 6452.1008 | AC7: 7589.8403 | AD7: 11715.27 | AE7: 8365.8311 | AF7: 6712.9791 | AG7: 8392.5624 | AH7: 12457.04 | AI7: 9018.0557 | AJ7: 7404.857 | AK7: 8683.383
A8: Industry | B8: 6768.716 | C8: 7106.9089 | D8: 7305.3933 | E8: 7067.3073 | F8: 7134.88 | G8: 7312.6338 | H8: 7537.2012 | I8: 7631.559 | J8: 7779.6771 | K8: 8068.1914 | L8: 8243.4977 | M8: 8201.904 | N8: 8570.222 | O8: 8886.3537 | P8: 8486.8215 | Q8: 7398.8259 | R8: 8380.9727 | S8: 8755.8128 | T8: 8669.1217 | U8: 8693.545 | V8: 8370.9889 | W8: 9440.9003 | X8: 9148.3101 | Y8: 9308.0272 | Z8: 9399.6531 | AA8: 9216.6 | AB8: 9213.3947 | AC8: 9900.0046 | AD8: 10329.759 | AE8: 9629.8792 | AF8: 9832.846 | AG8: 10008.722 | AH8: 10858.952 | AI8: 10366.675 | AJ8: 10560.473 | AK8: 10766.263
A9: Services | B9: 11937.718 | C9: 11574.904 | D9: 11626.767 | E9: 12042.627 | F9: 12862.303 | G9: 12815.187 | H9: 12685.299 | I9: 12837.368 | J9: 13754.229 | K9: 13368.754 | L9: 13465.069 | M9: 13600.746 | N9: 14658.783 | O9: 14367.919 | P9: 13669.805 | Q9: 12849.733 | R9: 14119.436 | S9: 14074.464 | T9: 14391.411 | U9: 14495.401 | V9: 14539.217 | W9: 14902.836 | X9: 14962.97 | Y9: 14980.554 | Z9: 15799.82 | AA9: 15607.29 | AB9: 15193.7 | AC9: 16317.734 | AD9: 16221.882 | AE9: 16906.179 | AF9: 16418.929 | AG9: 17379.216 | AH9: 17192.952 | AI9: 17283.664 | AJ9: 17847.735 | AK9: 18239.581
A10: Adjustments
A11: Taxes on products | B11: 1858.4261 | C11: 1817.8528 | D11: 1948.6611 | E11: 2005.691 | F11: 1991.2744 | G11: 2007.8887 | H11: 1935.7403 | I11: 2033.1747 | J11: 1979.1119 | K11: 2073.2514 | L11: 2129.377 | M11: 2135.7379 | N11: 2197.3365 | O11: 2270.9524 | P11: 2114.9878 | Q11: 1601.8521 | R11: 2123.5437 | S11: 2166.7043 | T11: 2039.8093 | U11: 2366.598 | V11: 2087.3237 | W11: 2349.8691 | X11: 2484.895 | Y11: 2428.7012 | Z11: 2459.0041 | AA11: 2470.6617 | AB11: 2587.0261 | AC11: 2698.9015 | AD11: 2801.1416 | AE11: 2642.3794 | AF11: 2764.0558 | AG11: 2801.4262 | AH11: 3096.8575 | AI11: 2889.5255 | AJ11: 2914.9594 | AK11: 3024.8849
A13: SEASONALLY ADJUSTED ESTIMATES
A14: GDP at market prices | B14: 26412.382 | C14: 26833.178 | D14: 27615.092 | E14: 27881.12 | F14: 28280.027 | G14: 28575.32 | H14: 29218.34 | I14: 29435.05 | J14: 29940.121 | K14: 30171.336 | L14: 31551.784 | M14: 31384.57 | N14: 32281.331 | O14: 32718.16 | P14: 31924.5 | Q14: 29657.775 | R14: 31892.811 | S14: 32711.164 | T14: 32892.138 | U14: 33292.407 | V14: 32651.965 | W14: 34298.482 | X14: 34986.793 | Y14: 35121.515 | Z14: 35508.22 | AA14: 35826.953 | AB14: 35796.595 | AC14: 36928.295 | AD14: 37523.449 | AE14: 38007.399 | AF14: 38339.889 | AG14: 39026.861 | AH14: 39915.242 | AI14: 40085.641 | AJ14: 41469.29 | AK14: 41170.975
A15: Agriculture, Forestry & Fishing | B15: 6111.832 | C15: 6366.2603 | D15: 6581.6237 | E15: 6548.3013 | F15: 6621.7992 | G15: 6534.0663 | H15: 6886.0886 | I15: 6661.5543 | J15: 6774.9055 | K15: 6780.1172 | L15: 7531.6179 | M15: 7187.0755 | N15: 7179.2464 | O15: 7292.5497 | P15: 7451.7651 | Q15: 7591.4624 | R15: 7564.1471 | S15: 7824.6088 | T15: 7524.1755 | U15: 7641.8806 | V15: 7905.7917 | W15: 7641.1633 | X15: 8041.8861 | Y15: 8458.7833 | Z15: 8127.4547 | AA15: 8518.1186 | AB15: 8397.9018 | AC15: 8271.6267 | AD15: 8555.8547 | AE15: 8679.4521 | AF15: 8868.1861 | AG15: 9157.3728 | AH15: 9115.7855 | AI15: 9334.5215 | AJ15: 9662.7346 | AK15: 9484.7067
A16: Industry | B16: 6812.1301 | C16: 7078.34 | D16: 7247.1038 | E16: 7135.733 | F16: 7163.6811 | G16: 7241.3149 | H16: 7495.2933 | I16: 7721.5312 | J16: 7796.477 | K16: 7980.5639 | L16: 8224.0315 | M16: 8286.6614 | N16: 8567.4044 | O16: 8828.0564 | P16: 8499.6111 | Q16: 7471.4768 | R16: 8328.0138 | S16: 8706.93 | T16: 8727.6817 | U16: 8740.5984 | V16: 8308.6732 | W16: 9460.6047 | X16: 9267.3387 | Y16: 9301.8903 | Z16: 9268.2224 | AA16: 9248.2971 | AB16: 9347.9433 | AC16: 9819.9064 | AD16: 10084.098 | AE16: 9738.1849 | AF16: 9989.8716 | AG16: 9966.2093 | AH16: 10619.586 | AI16: 10501.944 | AJ16: 10725.481 | AK16: 10700.809
A17: Services | B17: 11604.807 | C17: 11584.127 | D17: 11817.743 | E17: 12217.252 | F17: 12483.121 | G17: 12811.629 | H17: 12878.262 | I17: 13036.707 | J17: 13373.969 | K17: 13360.328 | L17: 13645.192 | M17: 13785.711 | N17: 14326.283 | O17: 14345.967 | P17: 13843.133 | Q17: 12996.007 | R17: 13875.051 | S17: 14022.672 | T17: 14590.563 | U17: 14540.868 | V17: 14364.068 | W17: 14839.509 | X17: 15186.461 | Y17: 14926.892 | Z17: 15685.95 | AA17: 15563.025 | AB17: 15460.188 | AC17: 16132.282 | AD17: 16129.452 | AE17: 16905.698 | AF17: 16714.68 | AG17: 17097.728 | AH17: 17137.749 | AI17: 17310.855 | AJ17: 18162.766 | AK17: 17958.216
A18: Adjustments
A19: Taxes on products | B19: 1883.6127 | C19: 1804.4505 | D19: 1968.6215 | E19: 1979.8334 | F19: 2011.4249 | G19: 1988.3105 | H19: 1958.6955 | I19: 2015.258 | J19: 1994.7694 | K19: 2050.3272 | L19: 2150.942 | M19: 2125.1221 | N19: 2208.3967 | O19: 2251.587 | P19: 2129.9909 | Q19: 1598.8292 | R19: 2125.599 | S19: 2156.9531 | T19: 2049.7184 | U19: 2369.0604 | V19: 2073.4323 | W19: 2357.2047 | X19: 2491.1073 | Y19: 2433.9488 | Z19: 2426.5932 | AA19: 2497.5123 | AB19: 2590.5617 | AC19: 2704.4794 | AD19: 2754.0437 | AE19: 2684.0639 | AF19: 2767.1507 | AG19: 2805.5516 | AH19: 3042.1217 | AI19: 2938.3201 | AJ19: 2918.3093 | AK19: 3027.2432
A21: TREND CYCLE ESTIMATES
A22: GDP at market prices | B22: 26463.215 | C22: 26873.32 | D22: 27377.604 | E22: 27828.633 | F22: 28165.944 | G22: 28515.282 | H22: 28962.671 | I22: 29458.581 | J22: 29876.385 | K22: 30340.894 | L22: 30852.208 | M22: 31486.946 | N22: 32235.222 | O22: 32548.013 | P22: 32190.328 | Q22: 32003.037 | R22: 32218.63 | S22: 32524.946 | T22: 32835.262 | U22: 32924.12 | V22: 33149.569 | W22: 34063.607 | X22: 34746.616 | Y22: 35092.187 | Z22: 35354.053 | AA22: 35602.14 | AB22: 36076.794 | AC22: 36786.043 | AD22: 37209.646 | AE22: 37737.153 | AF22: 38348.224 | AG22: 39280.849 | AH22: 39943.516 | AI22: 40316.163 | AJ22: 40765.026 | AK22: 41326.47
A23: Agriculture, Forestry & Fishing | B23: 6218.8815 | C23: 6294.4679 | D23: 6408.2976 | E23: 6477.5191 | F23: 6491.92 | G23: 6509.745 | H23: 6593.63 | I23: 6679.6719 | J23: 6762.1648 | K23: 6853.7422 | L23: 6976.9249 | M23: 7094.2545 | N23: 7181.0354 | O23: 7251.9083 | P23: 7353.8193 | Q23: 7494.804 | R23: 7588.2493 | S23: 7577.7207 | T23: 7533.6338 | U23: 7517.0176 | V23: 7590.7756 | W23: 7809.8977 | X23: 8061.5077 | Y23: 8304.7971 | Z23: 8432.3266 | AA23: 8399.0411 | AB23: 8345.1929 | AC23: 8350.2267 | AD23: 8417.9208 | AE23: 8586.8618 | AF23: 8786.5021 | AG23: 8983.3267 | AH23: 9131.0139 | AI23: 9203.4534 | AJ23: 9284.9916 | AK23: 9409.0282
A24: Industry | B24: 6795.0098 | C24: 7057.0163 | D24: 7190.6806 | E24: 7181.2301 | F24: 7151.961 | G24: 7264.681 | H24: 7489.38 | I24: 7693.5302 | J24: 7818.4785 | K24: 7993.0725 | L24: 8172.6885 | M24: 8348.1836 | N24: 8610.0665 | O24: 8759.0411 | P24: 8686.6509 | Q24: 8662.3296 | R24: 8724.8673 | S24: 8728.4973 | T24: 8722.721 | U24: 8700.9642 | V24: 8832.7434 | W24: 9176.1541 | X24: 9266.5108 | Y24: 9303.2367 | Z24: 9262.9183 | AA24: 9235.3843 | AB24: 9424.3365 | AC24: 9744.7046 | AD24: 9866.5507 | AE24: 9836.8881 | AF24: 9961.0616 | AG24: 10288.964 | AH24: 10551.412 | AI24: 10632.767 | AJ24: 10635.877 | AK24: 10699.075
A25: Services | B25: 11586.049 | C25: 11610.579 | D25: 11827.467 | E25: 12177.9 | F25: 12519.691 | G25: 12755.811 | H25: 12902.175 | I25: 13093.348 | J25: 13287.455 | K25: 13433.436 | L25: 13581.539 | M25: 13891.138 | N25: 14237.521 | O25: 14318.012 | P25: 13980.183 | Q25: 13710.197 | R25: 13761.384 | S25: 14078.333 | T25: 14427.698 | U25: 14528.201 | V25: 14476.812 | W25: 14707.093 | X25: 14960.746 | Y25: 15034.609 | Z25: 15226.002 | AA25: 15474.232 | AB25: 15710.538 | AC25: 15988.838 | AD25: 16195.2 | AE25: 16594.802 | AF25: 16860.134 | AG25: 17168.543 | AH25: 17333.297 | AI25: 17536.705 | AJ25: 17897.656 | AK25: 18214.793
A26: Adjustments
A27: Taxes on products | B27: 1863.2746 | C27: 1911.2565 | D27: 1951.159 | E27: 1991.9835 | F27: 2002.3721 | G27: 1985.045 | H27: 1977.4858 | I27: 1992.0312 | J27: 2008.2863 | K27: 2060.6438 | L27: 2121.0559 | M27: 2153.3699 | N27: 2206.5995 | O27: 2219.0512 | P27: 2169.675 | Q27: 2135.7073 | R27: 2144.1291 | S27: 2140.3948 | T27: 2151.2089 | U27: 2177.9374 | V27: 2249.2376 | W27: 2370.4622 | X27: 2457.8518 | Y27: 2449.544 | Z27: 2432.8063 | AA27: 2493.4825 | AB27: 2596.7266 | AC27: 2702.2743 | AD27: 2729.9744 | AE27: 2718.6011 | AF27: 2740.5262 | AG27: 2840.0156 | AH27: 2927.7933 | AI27: 2943.2382 | AJ27: 2946.5009 | AK27: 3003.5733
A29: Source: Uganda Bureau of Statistics
A31: TABLE 2: SUMMARY OF QGDP AT CONSTANT 2016/17 PRICES, PERCENTAGE CHANGE, 2016/17-2024/25
A32: Year | B32: 2016/17 | F32: 2017/18 | G32: 2017/18 | J32: 2018/19 | N32: 2019/20 | R32: 2020/21 | V32: 2021/22 | Z32: 2022/23 | AD32: 2023/24 | AH32: 2024/25
A33: Period | B33: Q1 | C33: Q2 | D33: Q3 | E33: Q4 | F33: Q1 | G33: Q2 | H33: Q3 | I33: Q4 | J33: Q1 | K33: Q2 | L33: Q3 | M33: Q4 | N33: Q1 | O33: Q2 | P33: Q3 | Q33: Q4 | R33: Q1 | S33: Q2 | T33: Q3 | U33: Q4 | V33: Q1 | W33: Q2 | X33: Q3 | Y33: Q4 | Z33: Q1 | AA33: Q2 | AB33: Q3 | AC33: Q4 | AD33: Q1 | AE33: Q2 | AF33: Q3 | AG33: Q4 | AH33: Q1 | AI33: Q2 | AJ33: Q3 | AK33: Q4
A34: ORIGINAL ESTIMATES
A35: GDP at market prices | B35: -0.26123732 | C35: 0.50759973 | D35: 6.7463304 | E35: 6.1812772 | F35: 7.6807994 | G35: 6.482691 | H35: 5.3855619 | I35: 5.5654191 | J35: 5.5745631 | K35: 5.7290986 | L35: 7.6659497 | M35: 6.8850866 | N35: 7.5602101 | O35: 8.3709998 | P35: 1.1986518 | Q35: -5.5518446 | R35: -0.40342092 | S35: 0.032514813 | T35: 2.8044035 | U35: 13.010184 | V35: 2.3552391 | W35: 4.7647978 | X35: 5.6224394 | Y35: 5.8117272 | Z35: 8.7704759 | AA35: 4.3130427 | AB35: 2.2300565 | AC35: 5.7476249 | AD35: 5.9909884 | AE35: 5.7823762 | AF35: 6.8246543 | AG35: 5.6851455 | AH35: 6.179374 | AI35: 5.3634057 | AJ35: 8.3943861 | AK35: 5.5263844
A36: Agriculture, Forestry & Fishing | B36: 1.1733408 | C36: 3.2296507 | D36: 1.0636811 | E36: 6.0861996 | F36: 9.6271372 | G36: 1.4567399 | H36: 2.5331516 | I36: 2.0288349 | J36: 2.172831 | K36: 4.0142917 | L36: 8.0105649 | M36: 8.7388102 | N36: 6.0482714 | O36: 7.6423042 | P36: -1.2938558 | Q36: 5.8976313 | R36: 6.9495692 | S36: 7.7622984 | T36: 0.2772422 | U36: 0.72534835 | V36: 4.3827365 | W36: -1.9940967 | X36: 4.1826797 | Y36: 10.386735 | Z36: 4.3606143 | AA36: 11.82045 | AB36: 5.4187899 | AC36: -2.7565251 | AD36: 5.654692 | AE36: 2.0542364 | AF36: 4.0433087 | AG36: 10.57627 | AH36: 6.3316479 | AI36: 7.7962919 | AJ36: 10.306569 | AK36: 3.465218
A37: Industry | B37: -0.60236503 | C37: 4.5996499 | D37: 16.225158 | E37: 7.9281886 | F37: 5.4096523 | G37: 2.8947167 | H37: 3.1731063 | I37: 7.9839699 | J37: 9.0372519 | K37: 10.332222 | L37: 9.3708055 | M37: 7.4735058 | N37: 10.161667 | O37: 10.140591 | P37: 2.9517052 | Q37: -9.791361 | R37: -2.2082189 | S37: -1.4690038 | T37: 2.1480387 | U37: 17.498979 | V37: -0.1191248 | W37: 7.8243735 | X37: 5.5275319 | Y37: 7.0682587 | Z37: 12.288442 | AA37: -2.3758358 | AB37: 0.71143793 | AC37: 6.3598584 | AD37: 9.8951124 | AE37: 4.4840735 | AF37: 6.7233779 | AG37: 1.0981532 | AH37: 5.122989 | AI37: 7.6511384 | AJ37: 7.3999602 | AK37: 7.5688126
A38: Services | B38: -2.4907448 | C38: -3.7360085 | D38: 2.5175067 | E38: 4.5088398 | F38: 7.7450747 | G38: 10.715275 | H38: 9.1042727 | I38: 6.5994001 | J38: 6.9344157 | K38: 4.3196167 | L38: 6.1470326 | M38: 5.9465292 | N38: 6.5765567 | O38: 7.4738811 | P38: 1.5205022 | Q38: -5.5218515 | R38: -3.6793496 | S38: -2.0424334 | T38: 5.2788287 | U38: 12.807024 | V38: 2.9730725 | W38: 5.8856384 | X38: 3.9715304 | Y38: 3.3469458 | Z38: 8.6703662 | AA38: 4.7269823 | AB38: 1.5420028 | AC38: 8.9261007 | AD38: 2.6713077 | AE38: 8.3223204 | AF38: 8.0640636 | AG38: 6.5050854 | AH38: 5.986177 | AI38: 2.2328251 | AJ38: 8.7021884 | AK38: 4.9505393
A39: Adjustments
A40: Taxes on products | B40: 10.604421 | C40: 4.5985732 | D40: 17.953651 | E40: 10.804192 | F40: 7.1484302 | G40: 10.453864 | H40: -0.66306107 | I40: 1.3702883 | J40: -0.61078733 | K40: 3.2552983 | L40: 10.00324 | M40: 5.044483 | N40: 11.026391 | O40: 9.535794 | P40: -0.67574803 | Q40: -24.997721 | R40: -3.3582876 | S40: -4.5905031 | T40: -3.5545582 | U40: 47.741356 | V40: -1.7056382 | W40: 8.453615 | X40: 21.819967 | Y40: 2.6241571 | Z40: 17.806552 | AA40: 5.1403958 | AB40: 4.1100754 | AC40: 11.125298 | AD40: 13.913662 | AE40: 6.9502737 | AF40: 6.8429801 | AG40: 3.7987589 | AH40: 10.556979 | AI40: 9.3531628 | AJ40: 5.4594994 | AK40: 7.9766044
A42: SEASONALLY ADJUSTED ESTIMATES
A43: GDP at market prices | B43: 0.87619308 | C43: 1.5931775 | D43: 2.9139819 | E43: 0.96334369 | F43: 1.4307407 | G43: 1.0441771 | H43: 2.2502616 | I43: 0.74169263 | J43: 1.7158838 | K43: 0.77225762 | L43: 4.5753613 | M43: -0.52996504 | N43: 2.8573288 | O43: 1.353194 | P43: -2.4257454 | Q43: -7.1002683 | R43: 7.5360867 | S43: 2.5659473 | T43: 0.55325037 | U43: 1.2169134 | V43: -1.9236884 | W43: 5.0426265 | X43: 2.006828 | Y43: 0.38506452 | Z43: 1.10105 | AA43: 0.89763029 | AB43: -0.084733752 | AC43: 3.1614723 | AD43: 1.6116488 | AE43: 1.2897253 | AF43: 0.87480378 | AG43: 1.7917958 | AH43: 2.2763312 | AI43: 0.42690223 | AJ43: 3.4517338 | AK43: -0.71936386
A44: Agriculture, Forestry & Fishing | B44: -0.99441617 | C44: 4.1628812 | D44: 3.3828859 | E44: -0.50629336 | F44: 1.1223959 | G44: -1.3249101 | H44: 5.3874921 | I44: -3.2606952 | J44: 1.7015736 | K44: 0.076926163 | L44: 11.08389 | M44: -4.5746143 | N44: -0.10893226 | O44: 1.5782051 | P44: 2.1832621 | Q44: 1.8746865 | R44: -0.35981597 | S44: 3.4433719 | T44: -3.8395951 | U44: 1.564359 | V44: 3.4534836 | W44: -3.3472731 | X44: 5.2442651 | Y44: 5.1840726 | Z44: -3.9169779 | AA44: 4.8067191 | AB44: -1.4113062 | AC44: -1.5036515 | AD44: 3.4361812 | AE44: 1.4445944 | AF44: 2.1744916 | AG44: 3.2609458 | AH44: -0.45414079 | AI44: 2.3995299 | AJ44: 3.5161212 | AK44: -1.8424175
A45: Industry | B45: 3.3995821 | C45: 3.9078798 | D45: 2.3842292 | E45: -1.5367635 | F45: 0.39166429 | G45: 1.083713 | H45: 3.5073531 | I45: 3.0183987 | J45: 0.97060796 | K45: 2.3611555 | L45: 3.0507569 | M45: 0.76154701 | N45: 3.387891 | O45: 3.0423682 | P45: -3.720471 | Q45: -12.096251 | R45: 11.464092 | S45: 4.5498983 | T45: 0.23833554 | U45: 0.14799667 | V45: -4.9415974 | W45: 13.864206 | X45: -2.0428512 | Y45: 0.37283215 | Z45: -0.36194662 | AA45: -0.21498476 | AB45: 1.0774537 | AC45: 5.0488448 | AD45: 2.6903702 | AE45: -3.4302854 | AF45: 2.5845337 | AG45: -0.23686276 | AH45: 6.5559178 | AI45: -1.1077822 | AJ45: 2.1285301 | AK45: -0.23002937
A46: Services | B46: -0.31750473 | C46: -0.17820041 | D46: 2.0166885 | E46: 3.3805907 | F46: 2.1761769 | G46: 2.6316103 | H46: 0.5201036 | I46: 1.2303233 | J46: 2.5870244 | K46: -0.102001 | L46: 2.1321672 | M46: 1.0298063 | N46: 3.9212472 | O46: 0.13739376 | P46: -3.5050503 | Q46: -6.1194695 | R46: 6.7639553 | S46: 1.0639292 | T46: 4.0498059 | U46: -0.34059663 | V46: -1.2158836 | W46: 3.3099342 | X46: 2.3380297 | Y46: -1.709211 | Z46: 5.0851685 | AA46: -0.78366443 | AB46: -0.66077331 | AC46: 4.3472547 | AD46: -0.017541137 | AE46: 4.8125945 | AF46: -1.1298985 | AG46: 2.2916812 | AH46: 0.2340743 | AI46: 1.0100893 | AJ46: 4.9212486 | AK46: -1.1262016
...

Sheet Summary IPD
X2: Table 3: Summary of QGDP at constant 2009/10 prices, IMPLICIT PRICE DEFLATORS, 2013/14-2017/18
B3: 2007/08 | D3: 2008/09 | H3: 2009/10 | L3: 2010/11 | P3: 2011/12 | U3: 2012/13 | X3: 2013/14 | AB3: 2014/15 | AF3: 2015/16 | AJ3: 2016/17 | AN3: 2017/18
A4: ACTIVITY | B4: Q3 | C4: Q4 | D4: Q1 | E4: Q2 | F4: Q3 | G4: Q4 | H4: Q1 | I4: Q2 | J4: Q3 | K4: Q4 | L4: Q1 | M4: Q2 | N4: Q3 | O4: Q4 | P4: Q1 | Q4: Q2 | R4: Q3 | S4: Q4 | T4: Q1 | U4: Q2 | V4: Q3 | W4: Q4 | X4: Q1 | Y4: Q2 | Z4: Q3 | AA4: Q4 | AB4: Q1 | AC4: Q2 | AD4: Q3 | AE4: Q4 | AF4: Q1 | AG4: Q2 | AH4: Q3 | AI4: Q4 | AJ4: Q1 | AK4: Q2 | AL4: Q3 | AM4: Q4 | AN4: Q1 | AO4: Q2 | AP4: Q3 | AQ4: Q4
A5: ORIGINAL ESTIMATES
A6: GDP at market prices | B6: =#REF!/Summary!#REF!*100 -> #REF! | C6: =#REF!/Summary!#REF!*100 -> #REF! | D6: =#REF!/Summary!#REF!*100 -> #REF! | E6: =#REF!/Summary!#REF!*100 -> #REF! | F6: =#REF!/Summary!#REF!*100 -> #REF! | G6: =#REF!/Summary!#REF!*100 -> #REF! | H6: =#REF!/Summary!#REF!*100 -> #REF! | I6: =#REF!/Summary!#REF!*100 -> #REF! | ... AI6: =#REF!/Summary!#REF!*100 -> #REF! | AJ6: =#REF!/Summary!B6*100 -> #REF! | AK6: =#REF!/Summary!C6*100 -> #REF! | AL6: =#REF!/Summary!D6*100 -> #REF! | AM6: =#REF!/Summary!E6*100 -> #REF! | AN6: =#REF!/Summary!F6*100 -> #REF! | AO6: =#REF!/Summary!G6*100 -> #REF! | AP6: =#REF!/Summary!H6*100 -> #REF! | AQ6: =#REF!/Summary!I6*100 -> #REF!
A7: Agriculture, Forestry & Fishing | B7: =#REF!/Summary!#REF!*100 -> #REF! | C7: =#REF!/Summary!#REF!*100 -> #REF! | D7: =#REF!/Summary!#REF!*100 -> #REF! | E7: =#REF!/Summary!#REF!*100 -> #REF! | F7: =#REF!/Summary!#REF!*100 -> #REF! | G7: =#REF!/Summary!#REF!*100 -> #REF! | H7: =#REF!/Summary!#REF!*100 -> #REF! | I7: =#REF!/Summary!#REF!*100 -> #REF! | ... AI7: =#REF!/Summary!#REF!*100 -> #REF! | AJ7: =#REF!/Summary!B7*100 -> #REF! | AK7: =#REF!/Summary!C7*100 -> #REF! | AL7: =#REF!/Summary!D7*100 -> #REF! | AM7: =#REF!/Summary!E7*100 -> #REF! | AN7: =#REF!/Summary!F7*100 -> #REF! | AO7: =#REF!/Summary!G7*100 -> #REF! | AP7: =#REF!/Summary!H7*100 -> #REF! | AQ7: =#REF!/Summary!I7*100 -> #REF!
A8: Industry | B8: =#REF!/Summary!#REF!*100 -> #REF! | C8: =#REF!/Summary!#REF!*100 -> #REF! | D8: =#REF!/Summary!#REF!*100 -> #REF! | E8: =#REF!/Summary!#REF!*100 -> #REF! | F8: =#REF!/Summary!#REF!*100 -> #REF! | G8: =#REF!/Summary!#REF!*100 -> #REF! | H8: =#REF!/Summary!#REF!*100 -> #REF! | I8: =#REF!/Summary!#REF!*100 -> #REF! | ... AI8: =#REF!/Summary!#REF!*100 -> #REF! | AJ8: =#REF!/Summary!B8*100 -> #REF! | AK8: =#REF!/Summary!C8*100 -> #REF! | AL8: =#REF!/Summary!D8*100 -> #REF! | AM8: =#REF!/Summary!E8*100 -> #REF! | AN8: =#REF!/Summary!F8*100 -> #REF! | AO8: =#REF!/Summary!G8*100 -> #REF! | AP8: =#REF!/Summary!H8*100 -> #REF! | AQ8: =#REF!/Summary!I8*100 -> #REF!
A9: Services | B9: =#REF!/Summary!#REF!*100 -> #REF! | C9: =#REF!/Summary!#REF!*100 -> #REF! | D9: =#REF!/Summary!#REF!*100 -> #REF! | E9: =#REF!/Summary!#REF!*100 -> #REF! | F9: =#REF!/Summary!#REF!*100 -> #REF! | G9: =#REF!/Summary!#REF!*100 -> #REF! | H9: =#REF!/Summary!#REF!*100 -> #REF! | I9: =#REF!/Summary!#REF!*100 -> #REF! | ... AI9: =#REF!/Summary!#REF!*100 -> #REF! | AJ9: =#REF!/Summary!B9*100 -> #REF! | AK9: =#REF!/Summary!C9*100 -> #REF! | AL9: =#REF!/Summary!D9*100 -> #REF! | AM9: =#REF!/Summary!E9*100 -> #REF! | AN9: =#REF!/Summary!F9*100 -> #REF! | AO9: =#REF!/Summary!G9*100 -> #REF! | AP9: =#REF!/Summary!H9*100 -> #REF! | AQ9: =#REF!/Summary!I9*100 -> #REF!
A10: Adjustments
A11: Taxes on products | B11: =#REF!/Summary!#REF!*100 -> #REF! | C11: =#REF!/Summary!#REF!*100 -> #REF! | D11: =#REF!/Summary!#REF!*100 -> #REF! | E11: =#REF!/Summary!#REF!*100 -> #REF! | F11: =#REF!/Summary!#REF!*100 -> #REF! | G11: =#REF!/Summary!#REF!*100 -> #REF! | H11: =#REF!/Summary!#REF!*100 -> #REF! | I11: =#REF!/Summary!#REF!*100 -> #REF! | ... AI11: =#REF!/Summary!#REF!*100 -> #REF! | AJ11: =#REF!/Summary!B11*100 -> #REF! | AK11: =#REF!/Summary!C11*100 -> #REF! | AL11: =#REF!/Summary!D11*100 -> #REF! | AM11: =#REF!/Summary!E11*100 -> #REF! | AN11: =#REF!/Summary!F11*100 -> #REF! | AO11: =#REF!/Summary!G11*100 -> #REF! | AP11: =#REF!/Summary!H11*100 -> #REF! | AQ11: =#REF!/Summary!I11*100 -> #REF!
A13: SEASONALLY ADJUSTED ESTIMATES
A14: GDP at market prices | B14: =#REF!/Summary!#REF!*100 -> #REF! | C14: =#REF!/Summary!#REF!*100 -> #REF! | D14: =#REF!/Summary!#REF!*100 -> #REF! | E14: =#REF!/Summary!#REF!*100 -> #REF! | F14: =#REF!/Summary!#REF!*100 -> #REF! | G14: =#REF!/Summary!#REF!*100 -> #REF! | H14: =#REF!/Summary!#REF!*100 -> #REF! | I14: =#REF!/Summary!#REF!*100 -> #REF! | ... AI14: =#REF!/Summary!#REF!*100 -> #REF! | AJ14: =#REF!/Summary!B14*100 -> #REF! | AK14: =#REF!/Summary!C14*100 -> #REF! | AL14: =#REF!/Summary!D14*100 -> #REF! | AM14: =#REF!/Summary!E14*100 -> #REF! | AN14: =#REF!/Summary!F14*100 -> #REF! | AO14: =#REF!/Summary!G14*100 -> #REF! | AP14: =#REF!/Summary!H14*100 -> #REF! | AQ14: =#REF!/Summary!I14*100 -> #REF!
A15: Agriculture, Forestry & Fishing | B15: =#REF!/Summary!#REF!*100 -> #REF! | C15: =#REF!/Summary!#REF!*100 -> #REF! | D15: =#REF!/Summary!#REF!*100 -> #REF! | E15: =#REF!/Summary!#REF!*100 -> #REF! | F15: =#REF!/Summary!#REF!*100 -> #REF! | G15: =#REF!/Summary!#REF!*100 -> #REF! | H15: =#REF!/Summary!#REF!*100 -> #REF! | I15: =#REF!/Summary!#REF!*100 -> #REF! | ... AI15: =#REF!/Summary!#REF!*100 -> #REF! | AJ15: =#REF!/Summary!B15*100 -> #REF! | AK15: =#REF!/Summary!C15*100 -> #REF! | AL15: =#REF!/Summary!D15*100 -> #REF! | AM15: =#REF!/Summary!E15*100 -> #REF! | AN15: =#REF!/Summary!F15*100 -> #REF! | AO15: =#REF!/Summary!G15*100 -> #REF! | AP15: =#REF!/Summary!H15*100 -> #REF! | AQ15: =#REF!/Summary!I15*100 -> #REF!
A16: Industry | B16: =#REF!/Summary!#REF!*100 -> #REF! | C16: =#REF!/Summary!#REF!*100 -> #REF! | D16: =#REF!/Summary!#REF!*100 -> #REF! | E16: =#REF!/Summary!#REF!*100 -> #REF! | F16: =#REF!/Summary!#REF!*100 -> #REF! | G16: =#REF!/Summary!#REF!*100 -> #REF! | H16: =#REF!/Summary!#REF!*100 -> #REF! | I16: =#REF!/Summary!#REF!*100 -> #REF! | ... AI16: =#REF!/Summary!#REF!*100 -> #REF! | AJ16: =#REF!/Summary!B16*100 -> #REF! | AK16: =#REF!/Summary!C16*100 -> #REF! | AL16: =#REF!/Summary!D16*100 -> #REF! | AM16: =#REF!/Summary!E16*100 -> #REF! | AN16: =#REF!/Summary!F16*100 -> #REF! | AO16: =#REF!/Summary!G16*100 -> #REF! | AP16: =#REF!/Summary!H16*100 -> #REF! | AQ16: =#REF!/Summary!I16*100 -> #REF!
A17: Services | B17: =#REF!/Summary!#REF!*100 -> #REF! | C17: =#REF!/Summary!#REF!*100 -> #REF! | D17: =#REF!/Summary!#REF!*100 -> #REF! | E17: =#REF!/Summary!#REF!*100 -> #REF! | F17: =#REF!/Summary!#REF!*100 -> #REF! | G17: =#REF!/Summary!#REF!*100 -> #REF! | H17: =#REF!/Summary!#REF!*100 -> #REF! | I17: =#REF!/Summary!#REF!*100 -> #REF! | ... AI17: =#REF!/Summary!#REF!*100 -> #REF! | AJ17: =#REF!/Summary!B17*100 -> #REF! | AK17: =#REF!/Summary!C17*100 -> #REF! | AL17: =#REF!/Summary!D17*100 -> #REF! | AM17: =#REF!/Summary!E17*100 -> #REF! | AN17: =#REF!/Summary!F17*100 -> #REF! | AO17: =#REF!/Summary!G17*100 -> #REF! | AP17: =#REF!/Summary!H17*100 -> #REF! | AQ17: =#REF!/Summary!I17*100 -> #REF!
A18: Adjustments
A19: Taxes on products | B19: =#REF!/Summary!#REF!*100 -> #REF! | C19: =#REF!/Summary!#REF!*100 -> #REF! | D19: =#REF!/Summary!#REF!*100 -> #REF! | E19: =#REF!/Summary!#REF!*100 -> #REF! | F19: =#REF!/Summary!#REF!*100 -> #REF! | G19: =#REF!/Summary!#REF!*100 -> #REF! | H19: =#REF!/Summary!#REF!*100 -> #REF! | I19: =#REF!/Summary!#REF!*100 -> #REF! | ... AI19: =#REF!/Summary!#REF!*100 -> #REF! | AJ19: =#REF!/Summary!B19*100 -> #REF! | AK19: =#REF!/Summary!C19*100 -> #REF! | AL19: =#REF!/Summary!D19*100 -> #REF! | AM19: =#REF!/Summary!E19*100 -> #REF! | AN19: =#REF!/Summary!F19*100 -> #REF! | AO19: =#REF!/Summary!G19*100 -> #REF! | AP19: =#REF!/Summary!H19*100 -> #REF! | AQ19: =#REF!/Summary!I19*100 -> #REF!
A21: TREND CYCLE ESTIMATES
A22: GDP at market prices | B22: =#REF!/Summary!#REF!*100 -> #REF! | C22: =#REF!/Summary!#REF!*100 -> #REF! | D22: =#REF!/Summary!#REF!*100 -> #REF! | E22: =#REF!/Summary!#REF!*100 -> #REF! | F22: =#REF!/Summary!#REF!*100 -> #REF! | G22: =#REF!/Summary!#REF!*100 -> #REF! | H22: =#REF!/Summary!#REF!*100 -> #REF! | I22: =#REF!/Summary!#REF!*100 -> #REF! | ... AI22: =#REF!/Summary!#REF!*100 -> #REF! | AJ22: =#REF!/Summary!B22*100 -> #REF! | AK22: =#REF!/Summary!C22*100 -> #REF! | AL22: =#REF!/Summary!D22*100 -> #REF! | AM22: =#REF!/Summary!E22*100 -> #REF! | AN22: =#REF!/Summary!F22*100 -> #REF! | AO22: =#REF!/Summary!G22*100 -> #REF! | AP22: =#REF!/Summary!H22*100 -> #REF! | AQ22: =#REF!/Summary!I22*100 -> #REF!
A23: Agriculture, Forestry & Fishing | B23: =#REF!/Summary!#REF!*100 -> #REF! | C23: =#REF!/Summary!#REF!*100 -> #REF! | D23: =#REF!/Summary!#REF!*100 -> #REF! | E23: =#REF!/Summary!#REF!*100 -> #REF! | F23: =#REF!/Summary!#REF!*100 -> #REF! | G23: =#REF!/Summary!#REF!*100 -> #REF! | H23: =#REF!/Summary!#REF!*100 -> #REF! | I23: =#REF!/Summary!#REF!*100 -> #REF! | ... AI23: =#REF!/Summary!#REF!*100 -> #REF! | AJ23: =#REF!/Summary!B23*100 -> #REF! | AK23: =#REF!/Summary!C23*100 -> #REF! | AL23: =#REF!/Summary!D23*100 -> #REF! | AM23: =#REF!/Summary!E23*100 -> #REF! | AN23: =#REF!/Summary!F23*100 -> #REF! | AO23: =#REF!/Summary!G23*100 -> #REF! | AP23: =#REF!/Summary!H23*100 -> #REF! | AQ23: =#REF!/Summary!I23*100 -> #REF!
A24: Industry | B24: =#REF!/Summary!#REF!*100 -> #REF! | C24: =#REF!/Summary!#REF!*100 -> #REF! | D24: =#REF!/Summary!#REF!*100 -> #REF! | E24: =#REF!/Summary!#REF!*100 -> #REF! | F24: =#REF!/Summary!#REF!*100 -> #REF! | G24: =#REF!/Summary!#REF!*100 -> #REF! | H24: =#REF!/Summary!#REF!*100 -> #REF! | I24: =#REF!/Summary!#REF!*100 -> #REF! | ... AI24: =#REF!/Summary!#REF!*100 -> #REF! | AJ24: =#REF!/Summary!B24*100 -> #REF! | AK24: =#REF!/Summary!C24*100 -> #REF! | AL24: =#REF!/Summary!D24*100 -> #REF! | AM24: =#REF!/Summary!E24*100 -> #REF! | AN24: =#REF!/Summary!F24*100 -> #REF! | AO24: =#REF!/Summary!G24*100 -> #REF! | AP24: =#REF!/Summary!H24*100 -> #REF! | AQ24: =#REF!/Summary!I24*100 -> #REF!
A25: Services | B25: =#REF!/Summary!#REF!*100 -> #REF! | C25: =#REF!/Summary!#REF!*100 -> #REF! | D25: =#REF!/Summary!#REF!*100 -> #REF! | E25: =#REF!/Summary!#REF!*100 -> #REF! | F25: =#REF!/Summary!#REF!*100 -> #REF! | G25: =#REF!/Summary!#REF!*100 -> #REF! | H25: =#REF!/Summary!#REF!*100 -> #REF! | I25: =#REF!/Summary!#REF!*100 -> #REF! | ... AI25: =#REF!/Summary!#REF!*100 -> #REF! | AJ25: =#REF!/Summary!B25*100 -> #REF! | AK25: =#REF!/Summary!C25*100 -> #REF! | AL25: =#REF!/Summary!D25*100 -> #REF! | AM25: =#REF!/Summary!E25*100 -> #REF! | AN25: =#REF!/Summary!F25*100 -> #REF! | AO25: =#REF!/Summary!G25*100 -> #REF! | AP25: =#REF!/Summary!H25*100 -> #REF! | AQ25: =#REF!/Summary!I25*100 -> #REF!
A26: Adjustments
A27: Taxes on products | B27: =#REF!/Summary!#REF!*100 -> #REF! | C27: =#REF!/Summary!#REF!*100 -> #REF! | D27: =#REF!/Summary!#REF!*100 -> #REF! | E27: =#REF!/Summary!#REF!*100 -> #REF! | F27: =#REF!/Summary!#REF!*100 -> #REF! | G27: =#REF!/Summary!#REF!*100 -> #REF! | H27: =#REF!/Summary!#REF!*100 -> #REF! | I27: =#REF!/Summary!#REF!*100 -> #REF! | ... AI27: =#REF!/Summary!#REF!*100 -> #REF! | AJ27: =#REF!/Summary!B27*100 -> #REF! | AK27: =#REF!/Summary!C27*100 -> #REF! | AL27: =#REF!/Summary!D27*100 -> #REF! | AM27: =#REF!/Summary!E27*100 -> #REF! | AN27: =#REF!/Summary!F27*100 -> #REF! | AO27: =#REF!/Summary!G27*100 -> #REF! | AP27: =#REF!/Summary!H27*100 -> #REF! | AQ27: =#REF!/Summary!I27*100 -> #REF!
A28: Uganda Bureau of Statistics
X30: Table 4: Summary of QGDP at constant prices, PERCENTAGE SHARE, 2013/14-2017/18
B31: 2007/08 | D31: 2008/09 | H31: 2009/10 | L31: 2010/11 | P31: 2011/12 | U31: 2012/13 | X31: 2013/14 | AB31: 2014/15 | AF31: 2015/16 | AJ31: 2016/17 | AN31: 2017/18
A32: ACTIVITY | B32: Q3 | C32: Q4 | D32: Q1 | E32: Q2 | F32: Q3 | G32: Q4 | H32: Q1 | I32: Q2 | J32: Q3 | K32: Q4 | L32: Q1 | M32: Q2 | N32: Q3 | O32: Q4 | P32: Q1 | Q32: Q2 | R32: Q3 | S32: Q4 | T32: Q1 | U32: Q2 | V32: Q3 | W32: Q4 | X32: Q1 | Y32: Q2 | Z32: Q3 | AA32: Q4 | AB32: Q1 | AC32: Q2 | AD32: Q3 | AE32: Q4 | AF32: Q1 | AG32: Q2 | AH32: Q3 | AI32: Q4 | AJ32: Q1 | AK32: Q2 | AL32: Q3 | AM32: Q4 | AN32: Q1 | AO32: Q2 | AP32: Q3 | AQ32: Q4
A33: ORIGINAL ESTIMATES
A34: GDP at market prices | B34: =Summary!#REF!/Summary!#REF!*100 -> #REF! | C34: =Summary!#REF!/Summary!#REF!*100 -> #REF! | D34: =Summary!#REF!/Summary!#REF!*100 -> #REF! | E34: =Summary!#REF!/Summary!#REF!*100 -> #REF! | F34: =Summary!#REF!/Summary!#REF!*100 -> #REF! | G34: =Summary!#REF!/Summary!#REF!*100 -> #REF! | H34: =Summary!#REF!/Summary!#REF!*100 -> #REF! | I34: =Summary!#REF!/Summary!#REF!*100 -> #REF! | J34: =Summary!#REF!/Summary!#REF!*100 -> #REF! | K34: =SUM(K35:K39) -> #REF! | L34: =SUM(L35:L39) -> #REF! | M34: =SUM(M35:M39) -> #REF! | N34: =SUM(N35:N39) -> #REF! | O34: =SUM(O35:O39) -> #REF! | P34: =SUM(P35:P39) -> #REF! | Q34: =SUM(Q35:Q39) -> #REF! | R34: =SUM(R35:R39) -> #REF! | ... AQ34: =SUM(AQ35:AQ39) -> 100
A35: Agriculture, Forestry & Fishing | B35: =Summary!#REF!/Summary!#REF!*100 -> #REF! | C35: =Summary!#REF!/Summary!#REF!*100 -> #REF! | D35: =Summary!#REF!/Summary!#REF!*100 -> #REF! | E35: =Summary!#REF!/Summary!#REF!*100 -> #REF! | F35: =Summary!#REF!/Summary!#REF!*100 -> #REF! | G35: =Summary!#REF!/Summary!#REF!*100 -> #REF! | H35: =Summary!#REF!/Summary!#REF!*100 -> #REF! | I35: =Summary!#REF!/Summary!#REF!*100 -> #REF! | ... AI35: =Summary!#REF!/Summary!#REF!*100 -> #REF! | AJ35: =Summary!B7/Summary!B$6*100 -> 28.037652 | AK35: =Summary!C7/Summary!C$6*100 -> 22.963195 | AL35: =Summary!D7/Summary!D$6*100 -> 20.424158 | AM35: =Summary!E7/Summary!E$6*100 -> 22.055001 | AN35: =Summary!F7/Summary!F$6*100 -> 28.544434 | AO35: =Summary!G7/Summary!G$6*100 -> 21.879339 | AP35: =Summary!H7/Summary!H$6*100 -> 19.871349 | AQ35: =Summary!I7/Summary!I$6*100 -> 21.316128
A36: Industry | B36: =Summary!#REF!/Summary!#REF!*100 -> #REF! | C36: =Summary!#REF!/Summary!#REF!*100 -> #REF! | D36: =Summary!#REF!/Summary!#REF!*100 -> #REF! | E36: =Summary!#REF!/Summary!#REF!*100 -> #REF! | F36: =Summary!#REF!/Summary!#REF!*100 -> #REF! | G36: =Summary!#REF!/Summary!#REF!*100 -> #REF! | H36: =Summary!#REF!/Summary!#REF!*100 -> #REF! | I36: =Summary!#REF!/Summary!#REF!*100 -> #REF! | ... AI36: =Summary!#REF!/Summary!#REF!*100 -> #REF! | AJ36: =Summary!B8/Summary!B$6*100 -> 23.68568 | AK36: =Summary!C8/Summary!C$6*100 -> 26.707438 | AL36: =Summary!D8/Summary!D$6*100 -> 27.840516 | AM36: =Summary!E8/Summary!E$6*100 -> 26.08785 | AN36: =Summary!F8/Summary!F$6*100 -> 23.186114 | AO36: =Summary!G8/Summary!G$6*100 -> 25.807521 | AP36: =Summary!H8/Summary!H$6*100 -> 27.256034 | AQ36: =Summary!I8/Summary!I$6*100 -> 26.685535
A37: Services | B37: =Summary!#REF!/Summary!#REF!*100 -> #REF! | C37: =Summary!#REF!/Summary!#REF!*100 -> #REF! | D37: =Summary!#REF!/Summary!#REF!*100 -> #REF! | E37: =Summary!#REF!/Summary!#REF!*100 -> #REF! | F37: =Summary!#REF!/Summary!#REF!*100 -> #REF! | G37: =Summary!#REF!/Summary!#REF!*100 -> #REF! | H37: =Summary!#REF!/Summary!#REF!*100 -> #REF! | I37: =Summary!#REF!/Summary!#REF!*100 -> #REF! | ... AI37: =Summary!#REF!/Summary!#REF!*100 -> #REF! | AJ37: =Summary!B9/Summary!B$6*100 -> 41.773502 | AK37: =Summary!C9/Summary!C$6*100 -> 43.49796 | AL37: =Summary!D9/Summary!D$6*100 -> 44.309069 | AM37: =Summary!E9/Summary!E$6*100 -> 44.453457 | AN37: =Summary!F9/Summary!F$6*100 -> 41.798437 | AO37: =Summary!G9/Summary!G$6*100 -> 45.226962 | AP37: =Summary!H9/Summary!H$6*100 -> 45.872591 | AQ37: =Summary!I9/Summary!I$6*100 -> 44.888865
A38: Adjustments
A39: Taxes on products | B39: =Summary!#REF!/Summary!#REF!*100 -> #REF! | C39: =Summary!#REF!/Summary!#REF!*100 -> #REF! | D39: =Summary!#REF!/Summary!#REF!*100 -> #REF! | E39: =Summary!#REF!/Summary!#REF!*100 -> #REF! | F39: =Summary!#REF!/Summary!#REF!*100 -> #REF! | G39: =Summary!#REF!/Summary!#REF!*100 -> #REF! | H39: =Summary!#REF!/Summary!#REF!*100 -> #REF! | I39: =Summary!#REF!/Summary!#REF!*100 -> #REF! | ... AI39: =Summary!#REF!/Summary!#REF!*100 -> #REF! | AJ39: =Summary!B11/Summary!B$6*100 -> 6.5031663 | AK39: =Summary!C11/Summary!C$6*100 -> 6.8314074 | AL39: =Summary!D11/Summary!D$6*100 -> 7.4262572 | AM39: =Summary!E11/Summary!E$6*100 -> 7.4036919 | AN39: =Summary!F11/Summary!F$6*100 -> 6.4710149 | AO39: =Summary!G11/Summary!G$6*100 -> 7.0861784 | AP39: =Summary!H11/Summary!H$6*100 -> 7.0000259 | AQ39: =Summary!I11/Summary!I$6*100 -> 7.1094719
A41: SEASONALLY ADJUSTED ESTIMATES
A42: GDP at market prices | B42: =Summary!#REF!/Summary!#REF!*100 -> #REF! | C42: =Summary!#REF!/Summary!#REF!*100 -> #REF! | D42: =Summary!#REF!/Summary!#REF!*100 -> #REF! | E42: =Summary!#REF!/Summary!#REF!*100 -> #REF! | F42: =Summary!#REF!/Summary!#REF!*100 -> #REF! | G42: =Summary!#REF!/Summary!#REF!*100 -> #REF! | H42: =Summary!#REF!/Summary!#REF!*100 -> #REF! | I42: =Summary!#REF!/Summary!#REF!*100 -> #REF! | J42: =Summary!#REF!/Summary!#REF!*100 -> #REF! | K42: =SUM(K43:K47) -> #REF! | L42: =SUM(L43:L47) -> #REF! | M42: =SUM(M43:M47) -> #REF! | N42: =SUM(N43:N47) -> #REF! | O42: =SUM(O43:O47) -> #REF! | P42: =SUM(P43:P47) -> #REF! | Q42: =SUM(Q43:Q47) -> #REF! | R42: =SUM(R43:R47) -> #REF! | ... AQ42: =SUM(AQ43:AQ47) -> 100
A43: Agriculture, Forestry & Fishing | B43: =Summary!#REF!/Summary!#REF!*100 -> #REF! | C43: =Summary!#REF!/Summary!#REF!*100 -> #REF! | D43: =Summary!#REF!/Summary!#REF!*100 -> #REF! | E43: =Summary!#REF!/Summary!#REF!*100 -> #REF! | F43: =Summary!#REF!/Summary!#REF!*100 -> #REF! | G43: =Summary!#REF!/Summary!#REF!*100 -> #REF! | H43: =Summary!#REF!/Summary!#REF!*100 -> #REF! | I43: =Summary!#REF!/Summary!#REF!*100 -> #REF! | ... AI43: =Summary!#REF!/Summary!#REF!*100 -> #REF! | AJ43: =Summary!B15/Summary!B$14*100 -> 23.140026 | AK43: =Summary!C15/Summary!C$14*100 -> 23.725331 | AL43: =Summary!D15/Summary!D$14*100 -> 23.83343 | AM43: =Summary!E15/Summary!E$14*100 -> 23.486507 | AN43: =Summary!F15/Summary!F$14*100 -> 23.415109 | AO43: =Summary!G15/Summary!G$14*100 -> 22.866118 | AP43: =Summary!H15/Summary!H$14*100 -> 23.567693 | AQ43: =Summary!I15/Summary!I$14*100 -> 22.631367
A44: Industry | B44: =Summary!#REF!/Summary!#REF!*100 -> #REF! | C44: =Summary!#REF!/Summary!#REF!*100 -> #REF! | D44: =Summary!#REF!/Summary!#REF!*100 -> #REF! | E44: =Summary!#REF!/Summary!#REF!*100 -> #REF! | F44: =Summary!#REF!/Summary!#REF!*100 -> #REF! | G44: =Summary!#REF!/Summary!#REF!*100 -> #REF! | H44: =Summary!#REF!/Summary!#REF!*100 -> #REF! | I44: =Summary!#REF!/Summary!#REF!*100 -> #REF! | ... AI44: =Summary!#REF!/Summary!#REF!*100 -> #REF! | AJ44: =Summary!B16/Summary!B$14*100 -> 25.791427 | AK44: =Summary!C16/Summary!C$14*100 -> 26.37906 | AL44: =Summary!D16/Summary!D$14*100 -> 26.243273 | AM44: =Summary!E16/Summary!E$14*100 -> 25.593423 | AN44: =Summary!F16/Summary!F$14*100 -> 25.331239 | AO44: =Summary!G16/Summary!G$14*100 -> 25.34115 | AP44: =Summary!H16/Summary!H$14*100 -> 25.652701 | AQ44: =Summary!I16/Summary!I$14*100 -> 26.232438
A45: Services | B45: =Summary!#REF!/Summary!#REF!*100 -> #REF! | C45: =Summary!#REF!/Summary!#REF!*100 -> #REF! | D45: =Summary!#REF!/Summary!#REF!*100 -> #REF! | E45: =Summary!#REF!/Summary!#REF!*100 -> #REF! | F45: =Summary!#REF!/Summary!#REF!*100 -> #REF! | G45: =Summary!#REF!/Summary!#REF!*100 -> #REF! | H45: =Summary!#REF!/Summary!#REF!*100 -> #REF! | I45: =Summary!#REF!/Summary!#REF!*100 -> #REF! | ... AI45: =Summary!#REF!/Summary!#REF!*100 -> #REF! | AJ45: =Summary!B17/Summary!B$14*100 -> 43.936995 | AK45: =Summary!C17/Summary!C$14*100 -> 43.17091 | AL45: =Summary!D17/Summary!D$14*100 -> 42.794509 | AM45: =Summary!E17/Summary!E$14*100 -> 43.819087 | AN45: =Summary!F17/Summary!F$14*100 -> 44.141123 | AO45: =Summary!G17/Summary!G$14*100 -> 44.834593 | AP45: =Summary!H17/Summary!H$14*100 -> 44.075955 | AQ45: =Summary!I17/Summary!I$14*100 -> 44.289738
...

Sheet Original_VA
A1: Table 3: ORIGINAL UNADJUSTED Value Added by activity at constant 2016/17 prices, BILLION SHILLINGS, 2016/17-2024/25
A3: Year | B3: 2016/17 | F3: 2017/18 | J3: 2018/19 | N3: 2019/20 | R3: 2020/21 | V3: 2021/22 | Z3: 2022/23 | AD3: 2023/24 | AH3: 2024/25
A4: Period | B4: Q1 | C4: Q2 | D4: Q3 | E4: Q4 | F4: Q1 | G4: Q2 | H4: Q3 | I4: Q4 | J4: Q1 | K4: Q2 | L4: Q3 | M4: Q4 | N4: Q1 | O4: Q2 | P4: Q3 | Q4: Q4 | R4: Q1 | S4: Q2 | T4: Q3 | U4: Q4 | V4: Q1 | W4: Q2 | X4: Q3 | Y4: Q4 | Z4: Q1 | AA4: Q2 | AB4: Q3 | AC4: Q4 | AD4: Q1 | AE4: Q2 | AF4: Q3 | AG4: Q4 | AH4: Q1 | AI4: Q2 | AJ4: Q3 | AK4: Q4
A5: GDP AT MARKET PRICES | B5: 28577.25 | C5: 26610.224 | D5: 26240.151 | E5: 27090.416 | F5: 30772.211 | G5: 28335.282 | H5: 27653.33 | I5: 28598.112 | J5: 32487.628 | K5: 29958.638 | L5: 29773.221 | M5: 30567.116 | N5: 34943.76 | O5: 32466.476 | P5: 30130.098 | Q5: 28870.078 | R5: 34802.79 | S5: 32477.032 | T5: 30975.068 | U5: 32626.128 | V5: 35622.479 | W5: 34024.497 | X5: 32716.622 | Y5: 34522.269 | Z5: 38746.74 | AA5: 35491.988 | AB5: 33446.221 | AC5: 36506.48 | AD5: 41068.053 | AE5: 37544.269 | AF5: 35728.81 | AG5: 38581.926 | AH5: 43605.801 | AI5: 39557.92 | AJ5: 38728.024 | AK5: 40714.112
A6: AGRICULTURE,FORESTRY&FISHING | B6: 8012.3898 | C6: 6110.5575 | D6: 5359.3298 | E6: 5974.7915 | F6: 8783.7536 | G6: 6199.5724 | H6: 5495.0897 | I6: 6096.0101 | J6: 8974.6097 | K6: 6448.4413 | L6: 5935.2774 | M6: 6628.7289 | N6: 9517.4185 | O6: 6941.2508 | P6: 5858.4835 | Q6: 7019.6669 | R6: 10178.838 | S6: 7480.0515 | T6: 5874.7257 | U6: 7070.5839 | V6: 10624.95 | W6: 7330.892 | X6: 6120.4466 | Y6: 7804.9868 | Z6: 11088.263 | AA6: 8197.4364 | AB6: 6452.1008 | AC6: 7589.8403 | AD6: 11715.27 | AE6: 8365.8311 | AF6: 6712.9791 | AG6: 8392.5624 | AH6: 12457.04 | AI6: 9018.0557 | AJ6: 7404.857 | AK6: 8683.383
A7: Cash crops | B7: 503.80349 | C7: 751.47235 | D7: 756.6638 | E7: 540.01006 | F7: 711.49019 | G7: 721.04285 | H7: 772.20685 | I7: 498.20843 | J7: 708.23323 | K7: 768.35837 | L7: 790.47225 | M7: 563.82244 | N7: 726.02296 | O7: 837.1285 | P7: 928.12524 | Q7: 560.87771 | R7: 782.35957 | S7: 933.39018 | T7: 1033.3276 | U7: 683.9495 | V7: 965.22972 | W7: 980.0504 | X7: 993.72889 | Y7: 688.45779 | Z7: 969.15812 | AA7: 928.29383 | AB7: 1072.7337 | AC7: 681.86824 | AD7: 1030.9453 | AE7: 1070.8634 | AF7: 1245.7712 | AG7: 753.11773 | AH7: 1200.8309 | AI7: 1173.3745 | AJ7: 1357.3298 | AK7: 833.80664
A8: Food crops | B8: 5158.2444 | C8: 2956.6065 | D8: 2216.3688 | E8: 3063.7253 | F8: 5764.4524 | G8: 3189.0326 | H8: 2406.5075 | I8: 3180.2595 | J8: 5806.2349 | K8: 3120.4628 | L8: 2491.5732 | M8: 3355.7462 | N8: 6087.3682 | O8: 3386.3637 | P8: 2210.2087 | Q8: 3770.8716 | R8: 6729.3932 | S8: 3733.7504 | T8: 2032.2914 | U8: 3595.1715 | V8: 6847.8466 | W8: 3553.494 | X8: 2141.0816 | Y8: 4113.2181 | Z8: 7367.019 | AA8: 4243.1851 | AB8: 2047.1733 | AC8: 3777.0373 | AD8: 7740.0659 | AE8: 4232.3299 | AF8: 2190.283 | AG8: 4166.6736 | AH8: 8152.8624 | AI8: 4529.7878 | AJ8: 2262.5053 | AK8: 4257.0001
A9: Livestock | B9: 803.94776 | C9: 820.59322 | D9: 836.92932 | E9: 847.61996 | F9: 869.7722 | G9: 875.22137 | H9: 895.75739 | I9: 904.19998 | J9: 927.06886 | K9: 942.41424 | L9: 958.71971 | M9: 977.13017 | N9: 999.62611 | O9: 1016.5699 | P9: 1037.6779 | Q9: 1051.9475 | R9: 1075.0903 | S9: 1093.5814 | T9: 1117.645 | U9: 1139.3805 | V9: 1164.9148 | W9: 1183.7106 | X9: 1209.2184 | Y9: 1235.4276 | Z9: 1266.6927 | AA9: 1289.0045 | AB9: 1324.7443 | AC9: 1336.3725 | AD9: 1364.9638 | AE9: 1392.5445 | AF9: 1421.1592 | AG9: 1449.5255 | AH9: 1480.2991 | AI9: 1512.2661 | AJ9: 1550.6613 | AK9: 1577.5316
A10: Agriculture Support Services | B10: 6.2837288 | C10: 3.325037 | D10: 2.0494802 | E10: 4.8141938 | F10: 6.2956095 | G10: 3.2755887 | H10: 2.0080248 | I10: 4.8329083 | J10: 6.6083068 | K10: 3.5884171 | L10: 2.1829168 | M10: 5.4791027 | N10: 7.7829336 | O10: 4.3860543 | P10: 2.1540787 | Q10: 4.6823231 | R10: 7.2284747 | S10: 3.9801091 | T10: 2.7383126 | U10: 5.4484674 | V10: 7.7592654 | W10: 4.0780685 | X10: 2.8418931 | Y10: 5.5823033 | Z10: 7.9640725 | AA10: 4.2517334 | AB10: 2.8588657 | AC10: 5.6398941 | AD10: 8.3887802 | AE10: 4.5610538 | AF10: 3.0962641 | AG10: 6.1329907 | AH10: 8.7481039 | AI10: 4.4104034 | AJ10: 3.0707098 | AK10: 7.1536239
A11: Forestry | B11: 977.93029 | C11: 992.65353 | D11: 1004.7215 | E11: 1027.2691 | F11: 1007.3811 | G11: 1003.7501 | H11: 1044.0648 | I11: 1082.2855 | J11: 1044.1093 | K11: 1056.6287 | L11: 1070.8268 | M11: 1114.9791 | N11: 1086.4176 | O11: 1108.061 | P11: 1120.3878 | Q11: 1111.3554 | R11: 1056.878 | S11: 1149.2585 | T11: 1181.6024 | U11: 1168.994 | V11: 1107.6165 | W11: 1115.7609 | X11: 1243.7005 | Y11: 1233.5857 | Z11: 1152.8066 | AA11: 1158.8936 | AB11: 1275.3325 | AC11: 1260.9317 | AD11: 1214.7921 | AE11: 1190.4314 | AF11: 1200.1467 | AG11: 1391.5844 | AH11: 1260.4901 | AI11: 1251.7752 | AJ11: 1287.4128 | AK11: 1362.3897
A12: Fishing | B12: 562.18016 | C12: 585.90691 | D12: 542.59683 | E12: 491.35281 | F12: 424.36218 | G12: 407.24998 | H12: 374.54516 | I12: 426.22385 | J12: 482.35514 | K12: 556.98883 | L12: 621.50255 | M12: 611.57191 | N12: 610.20066 | O12: 588.74175 | P12: 559.92985 | Q12: 519.93242 | R12: 527.88856 | S12: 566.09095 | T12: 507.12106 | U12: 477.64002 | V12: 531.58287 | W12: 493.79799 | X12: 529.87529 | Y12: 528.71517 | Z12: 324.62227 | AA12: 573.80759 | AB12: 729.25809 | AC12: 527.99078 | AD12: 356.11407 | AE12: 475.10096 | AF12: 652.52279 | AG12: 625.52817 | AH12: 353.80898 | AI12: 546.44166 | AJ12: 943.87711 | AK12: 645.50127
A13: INDUSTRY | B13: 6768.716 | C13: 7106.9089 | D13: 7305.3933 | E13: 7067.3073 | F13: 7134.88 | G13: 7312.6338 | H13: 7537.2012 | I13: 7631.559 | J13: 7779.6771 | K13: 8068.1914 | L13: 8243.4977 | M13: 8201.904 | N13: 8570.222 | O13: 8886.3537 | P13: 8486.8215 | Q13: 7398.8259 | R13: 8380.9727 | S13: 8755.8128 | T13: 8669.1217 | U13: 8693.545 | V13: 8370.9889 | W13: 9440.9003 | X13: 9148.3101 | Y13: 9308.0272 | Z13: 9399.6531 | AA13: 9216.6 | AB13: 9213.3947 | AC13: 9900.0046 | AD13: 10329.759 | AE13: 9629.8792 | AF13: 9832.846 | AG13: 10008.722 | AH13: 10858.952 | AI13: 10366.675 | AJ13: 10560.473 | AK13: 10766.263
A14: Mining & quarrying | B14: 282.95293 | C14: 276.59929 | D14: 375.75679 | E14: 401.80833 | F14: 319.7555 | G14: 224.76187 | H14: 339.81152 | I14: 399.51644 | J14: 397.45267 | K14: 270.96658 | L14: 456.76541 | M14: 382.76325 | N14: 454.84011 | O14: 474.18067 | P14: 511.09849 | Q14: 317.00352 | R14: 645.34983 | S14: 468.64606 | T14: 394.79031 | U14: 370.03532 | V14: 281.63209 | W14: 699.91945 | X14: 555.65764 | Y14: 685.74265 | Z14: 531.92636 | AA14: 337.30454 | AB14: 418.13259 | AC14: 1047.8039 | AD14: 1057.992 | AE14: 661.67504 | AF14: 435.10339 | AG14: 254.56755 | AH14: 967.23315 | AI14: 725.91079 | AJ14: 433.19398 | AK14: 365.58098
A15: Manufacturing | B15: 4040.705 | C15: 4238.5858 | D15: 4435.5484 | E15: 4130.4121 | F15: 4261.464 | G15: 4439.8418 | H15: 4503.4215 | I15: 4419.5601 | J15: 4561.6635 | K15: 4852.9223 | L15: 4835.1147 | M15: 4731.8722 | N15: 5096.6336 | O15: 5278.1396 | P15: 4784.5996 | Q15: 4060.5317 | R15: 4909.3533 | S15: 5000.3958 | T15: 4890.4733 | U15: 4843.5145 | V15: 4617.2239 | W15: 5323.9039 | X15: 5273.5154 | Y15: 5182.5961 | Z15: 5339.1513 | AA15: 5395.2734 | AB15: 5202.2022 | AC15: 5098.4633 | AD15: 5590.3484 | AE15: 5307.7672 | AF15: 5461.8901 | AG15: 5659.4204 | AH15: 5935.8741 | AI15: 5719.2052 | AJ15: 5747.7099 | AK15: 5854.8503
A16: Electricity | B16: 330.50837 | C16: 338.39281 | D16: 360.04769 | E16: 350.52748 | F16: 365.87468 | G16: 364.64894 | H16: 366.75833 | I16: 356.45256 | J16: 365.71697 | K16: 363.9283 | L16: 374.53323 | M16: 385.58107 | N16: 410.67753 | O16: 420.90578 | P16: 438.26559 | Q16: 382.38906 | R16: 446.83511 | S16: 458.60371 | T16: 470.86524 | U16: 468.11348 | V16: 469.51958 | W16: 473.62344 | X16: 480.90714 | Y16: 478.24728 | Z16: 498.13323 | AA16: 511.1819 | AB16: 524.08967 | AC16: 529.54458 | AD16: 557.4673 | AE16: 553.71387 | AF16: 569.86152 | AG16: 565.92799 | AH16: 593.4025 | AI16: 611.79592 | AJ16: 646.30896 | AK16: 661.7343
... A33: Activities of Households | B33: 220.43437 | C33: 222.05653 | D33: 223.6473 | E33: 225.21208 | F33: 226.75658 | G33: 228.3158 | H33: 229.88331 | I33: 231.46596 | J33: 233.07033 | K33: 234.68168 | L33: 236.29337 | M33: 237.91141 | N33: 239.54242 | O33: 241.1751 | P33: 242.80326 | Q33: 244.43246 | R33: 246.06921 | S33: 247.72055 | T33: 249.44396 | U33: 251.18214 | V33: 252.87801 | W33: 254.57335 | X33: 256.32765 | Y33: 258.08109 | Z33: 259.77441 | AA33: 261.48299 | AB33: 263.3354 | AC33: 265.20368 | AD33: 266.95973 | AE33: 268.7154 | AF33: 270.60323 | AG33: 272.49078 | AH33: 274.24576 | AI33: 276.01332 | AJ33: 278.0007 | AK33: 280.00154
A35: ADJUSTMENTS
A36: Taxes on products | B36: 1858.4261 | C36: 1817.8528 | D36: 1948.6611 | E36: 2005.691 | F36: 1991.2744 | G36: 2007.8887 | H36: 1935.7403 | I36: 2033.1747 | J36: 1979.1119 | K36: 2073.2514 | L36: 2129.377 | M36: 2135.7379 | N36: 2197.3365 | O36: 2270.9524 | P36: 2114.9878 | Q36: 1601.8521 | R36: 2123.5437 | S36: 2166.7043 | T36: 2039.8093 | U36: 2366.598 | V36: 2087.3237 | W36: 2349.8691 | X36: 2484.895 | Y36: 2428.7012 | Z36: 2459.0041 | AA36: 2470.6617 | AB36: 2587.0261 | AC36: 2698.9015 | AD36: 2801.1416 | AE36: 2642.3794 | AF36: 2764.0558 | AG36: 2801.4262 | AH36: 3096.8575 | AI36: 2889.5255 | AJ36: 2914.9594 | AK36: 3024.8849
A37: Source: Uganda Bureau of Statistics

Sheet Original_Growth
A1: Table 4: ORIGINAL UNADJUSTED Value Added at constant 2016/17 prices, PERCENTAGE CHANGE, 2016/17-2024/25
B3: 2016/17 | F3: 2017/18 | J3: 2018/19 | N3: 2019/20 | R3: 2020/21 | V3: 2021/22 | Z3: 2022/23 | AD3: 2023/24 | AH3: 2024/25
B4: Q1 | C4: Q2 | D4: Q3 | E4: Q4 | F4: Q1 | G4: Q2 | H4: Q3 | I4: Q4 | J4: Q1 | K4: Q2 | L4: Q3 | M4: Q4 | N4: Q1 | O4: Q2 | P4: Q3 | Q4: Q4 | R4: Q1 | S4: Q2 | T4: Q3 | U4: Q4 | V4: Q1 | W4: Q2 | X4: Q3 | Y4: Q4 | Z4: Q1 | AA4: Q2 | AB4: Q3 | AC4: Q4 | AD4: Q1 | AE4: Q2 | AF4: Q3 | AG4: Q4 | AH4: Q1 | AI4: Q2 | AJ4: Q3 | AK4: Q4
A5: GDP AT MARKET PRICES | B5: -0.26123732 | C5: 0.50759973 | D5: 6.7463304 | E5: 6.1812772 | F5: 7.6807994 | G5: 6.482691 | H5: 5.3855619 | I5: 5.5654191 | J5: 5.5745631 | K5: 5.7290986 | L5: 7.6659497 | M5: 6.8850866 | N5: 7.5602101 | O5: 8.3709998 | P5: 1.1986518 | Q5: -5.5518446 | R5: -0.40342092 | S5: 0.032514813 | T5: 2.8044035 | U5: 13.010184 | V5: 2.3552391 | W5: 4.7647978 | X5: 5.6224394 | Y5: 5.8117272 | Z5: 8.7704759 | AA5: 4.3130427 | AB5: 2.2300565 | AC5: 5.7476249 | AD5: 5.9909884 | AE5: 5.7823762 | AF5: 6.8246543 | AG5: 5.6851455 | AH5: 6.179374 | AI5: 5.3634057 | AJ5: 8.3943861 | AK5: 5.5263844
A6: AGRICULTURE,FORESTRY&FISHING | B6: 1.1733408 | C6: 3.2296507 | D6: 1.0636811 | E6: 6.0861996 | F6: 9.6271372 | G6: 1.4567399 | H6: 2.5331516 | I6: 2.0288349 | J6: 2.172831 | K6: 4.0142917 | L6: 8.0105649 | M6: 8.7388102 | N6: 6.0482714 | O6: 7.6423042 | P6: -1.2938558 | Q6: 5.8976313 | R6: 6.9495692 | S6: 7.7622984 | T6: 0.2772422 | U6: 0.72534835 | V6: 4.3827365 | W6: -1.9940967 | X6: 4.1826797 | Y6: 10.386735 | Z6: 4.3606143 | AA6: 11.82045 | AB6: 5.4187899 | AC6: -2.7565251 | AD6: 5.654692 | AE6: 2.0542364 | AF6: 4.0433087 | AG6: 10.57627 | AH6: 6.3316479 | AI6: 7.7962919 | AJ6: 10.306569 | AK6: 3.465218
A7: Cash crops | B7: -16.007927 | C7: 23.751211 | D7: 12.020404 | E7: 19.986916 | F7: 41.223752 | G7: -4.0493176 | H7: 2.0541554 | I7: -7.7408987 | J7: -0.45776578 | K7: 6.5620954 | L7: 2.36535 | M7: 13.169991 | N7: 2.5118453 | O7: 8.9502677 | P7: 17.41402 | Q7: -0.52227954 | R7: 7.7596194 | S7: 11.499033 | T7: 11.334927 | U7: 21.942714 | V7: 23.374182 | W7: 4.9990053 | X7: -3.8321506 | Y7: 0.65915566 | Z7: 0.4069914 | AA7: -5.2810114 | AB7: 7.9503397 | AC7: -0.95714691 | AD7: 6.3753418 | AE7: 15.358235 | AF7: 16.13052 | AG7: 10.449158 | AH7: 16.47863 | AI7: 9.5727556 | AJ7: 8.954976 | AK7: 10.713984
A8: Food crops | B8: 1.7376881 | C8: -3.4995387 | D8: 6.1821644 | E8: 6.4109612 | F8: 11.752214 | G8: 7.8612466 | H8: 8.578837 | I8: 3.8036746 | J8: 0.72483173 | K8: -2.1501749 | L8: 3.5348213 | M8: 5.5179991 | N8: 4.8419209 | O8: 8.5211992 | P8: -11.292646 | Q8: 12.370584 | R8: 10.54684 | S8: 10.2584 | T8: -8.0497943 | U8: -4.6594018 | V8: 1.7602391 | W8: -4.8277555 | X8: 5.3530803 | Y8: 14.409511 | Z8: 7.5815419 | AA8: 19.408815 | AB8: -4.386021 | AC8: -8.1731832 | AD8: 5.0637427 | AE8: -0.25582669 | AF8: 6.9905976 | AG8: 10.315924 | AH8: 5.3332431 | AI8: 7.0282315 | AJ8: 3.2973958 | AK8: 2.167834
A9: Livestock | B9: 5.6220551 | C9: 7.3369226 | D9: 8.0046056 | E9: 7.0651484 | F9: 8.1876515 | G9: 6.6571546 | H9: 7.0290372 | I9: 6.6751637 | J9: 6.5875482 | K9: 7.677242 | L9: 7.0289477 | M9: 8.065715 | N9: 7.8265223 | O9: 7.8686926 | P9: 8.2357916 | Q9: 7.6568416 | R9: 7.5492368 | S9: 7.5756165 | T9: 7.7063501 | U9: 8.311535 | V9: 8.3550688 | W9: 8.2416626 | X9: 8.1934317 | Y9: 8.4297719 | Z9: 8.7369443 | AA9: 8.8952394 | AB9: 9.5537611 | AC9: 8.1708417 | AD9: 7.7580832 | AE9: 8.032551 | AF9: 7.2780032 | AG9: 8.46718 | AH9: 8.4496924 | AI9: 8.5973316 | AJ9: 9.1124298 | AK9: 8.8308919
A10: Agriculture Support Services | B10: 1.7603391 | C10: 5.0997732 | D10: 4.9594275 | E10: 5.1449869 | F10: 0.18907177 | G10: -1.4871507 | H10: -2.0227286 | I10: 0.38873457 | J10: 4.9669107 | K10: 9.5502966 | L10: 8.709657 | M10: 13.370715 | N10: 17.775003 | O10: 22.228107 | P10: -1.3210824 | Q10: -14.542154 | R10: -7.1240347 | S10: -9.255361 | T10: 27.122216 | U10: 16.362482 | V10: 7.3430525 | W10: 2.4612239 | X10: 3.7826391 | Y10: 2.4563964 | Z10: 2.6395159 | AA10: 4.2585086 | AB10: 0.59723142 | AC10: 1.0316667 | AD10: 5.3327958 | AE10: 7.2751607 | AF10: 8.3039338 | AG10: 8.7430127 | AH10: 4.2833839 | AI10: -3.3029737 | AJ10: -0.82532569 | AK10: 16.641687
A11: Forestry | B11: 9.2270812 | C11: 12.389945 | D11: -13.360355 | E11: 10.596834 | F11: 3.011542 | G11: 1.1178648 | H11: 3.9158391 | I11: 5.3555947 | J11: 3.6459073 | K11: 5.2681082 | L11: 2.5632504 | M11: 3.0207938 | N11: 4.0520984 | O11: 4.8675831 | P11: 4.6282922 | Q11: -0.32500419 | R11: -2.7189897 | S11: 3.7179826 | T11: 5.4636973 | U11: 5.1863315 | V11: 4.8007872 | W11: -2.9147168 | X11: 5.255418 | Y11: 5.5254145 | Z11: 4.0799464 | AA11: 3.8657707 | AB11: 2.5433776 | AC11: 2.2167853 | AD11: 5.3769202 | AE11: 2.721366 | AF11: -5.8953925 | AG11: 10.3616 | AH11: 3.7617946 | AI11: 5.1530752 | AJ11: 7.2712862 | AK11: -2.0979436
A12: Fishing | B12: -4.204575 | C12: -1.9275876 | D12: -10.109137 | E12: -14.947848 | F12: -24.514914 | G12: -30.492374 | H12: -30.971737 | I12: -13.25503 | J12: 13.665911 | K12: 36.768289 | L12: 65.935276 | M12: 43.486083 | N12: 26.504438 | O12: 5.7008185 | P12: -9.9070707 | Q12: -14.984255 | R12: -13.489349 | S12: -3.8473233 | T12: -9.4313234 | U12: -8.1342105 | V12: 0.69982751 | W12: -12.770556 | X12: 4.4869431 | Y12: 10.69323 | Z12: -38.932895 | AA12: 16.202901 | AB12: 37.628249 | AC12: -0.13700969 | AD12: 9.7010594 | AE12: -17.202043 | AF12: -10.522378 | AG12: 18.473315 | AH12: -0.64729068 | AI12: 15.015903 | AJ12: 44.650443 | AK12: 3.1929969
A13: INDUSTRY | B13: -0.60236503 | C13: 4.5996499 | D13: 16.225158 | E13: 7.9281886 | F13: 5.4096523 | G13: 2.8947167 | H13: 3.1731063 | I13: 7.9839699 | J13: 9.0372519 | K13: 10.332222 | L13: 9.3708055 | M13: 7.4735058 | N13: 10.161667 | O13: 10.140591 | P13: 2.9517052 | Q13: -9.791361 | R13: -2.2082189 | S13: -1.4690038 | T13: 2.1480387 | U13: 17.498979 | V13: -0.1191248 | W13: 7.8243735 | X13: 5.5275319 | Y13: 7.0682587 | Z13: 12.288442 | AA13: -2.3758358 | AB13: 0.71143793 | AC13: 6.3598584 | AD13: 9.8951124 | AE13: 4.4840735 | AF13: 6.7233779 | AG13: 1.0981532 | AH13: 5.122989 | AI13: 7.6511384 | AJ13: 7.3999602 | AK13: 7.5688126
A14: Mining & quarrying | B14: -1.0176412 | C14: 27.163369 | D14: 42.921379 | E14: 66.601672 | F14: 13.006608 | G14: -18.740982 | H14: -9.5661008 | I14: -0.57039491 | J14: 24.298931 | K14: 20.557187 | L14: 34.417285 | M14: -4.1933679 | N14: 14.438809 | O14: 74.995995 | P14: 11.895181 | Q14: -17.180262 | R14: 41.884989 | S14: -1.1671934 | T14: -22.75651 | U14: 16.729088 | V14: -56.35978 | W14: 49.349266 | X14: 40.747538 | Y14: 85.318163 | Z14: 88.87278 | AA14: -51.808093 | AB14: -24.749961 | AC14: 52.798407 | AD14: 98.898205 | AE14: 96.165475 | AF14: 4.0587122 | AG14: -75.704656 | AH14: -8.5784039 | AI14: 9.7080505 | AJ14: -0.43884077 | AK14: 43.608635
A15: Manufacturing | B15: -5.7702586 | C15: -0.1731616 | D15: 19.811423 | E15: 2.5311368 | F15: 5.4633796 | G15: 4.7481879 | H15: 1.5302076 | I15: 7.0004646 | J15: 7.0445137 | K15: 9.3039472 | L15: 7.3653602 | M15: 7.0665881 | N15: 11.727523 | O15: 8.7620878 | P15: -1.0447553 | Q15: -14.187631 | R15: -3.6745882 | S15: -5.2621545 | T15: 2.2128016 | U15: 19.282766 | V15: -5.9504663 | W15: 6.4696502 | X15: 7.8324133 | Y15: 7.0007348 | Z15: 15.63553 | AA15: 1.340548 | AB15: -1.3522881 | AC15: -1.6233706 | AD15: 4.7048134 | AE15: -1.6219041 | AF15: 4.9918833 | AG15: 11.002473 | AH15: 6.180753 | AI15: 7.7516204 | AJ15: 5.2329828 | AK15: 3.4531782
A16: Electricity | B16: 6.141503 | C16: 9.4323279 | D16: 14.545286 | E16: 9.0047431 | F16: 10.700578 | G16: 7.7590666 | H16: 1.8638188 | I16: 1.6903329 | J16: -0.043102909 | K16: -0.19762631 | L16: 2.1198978 | M16: 8.1717764 | N16: 12.293811 | O16: 15.65624 | P16: 17.016475 | Q16: -0.82784518 | R16: 8.8043734 | S16: 8.9563825 | T16: 7.4383342 | U16: 22.418117 | V16: 5.076699 | W16: 3.2750999 | X16: 2.1326469 | Y16: 2.1648167 | Z16: 6.0942389 | AA16: 7.9300241 | AB16: 8.9793904 | AC16: 10.726104 | AD16: 11.911286 | AE16: 8.3203213 | AF16: 8.7335926 | AG16: 6.8706984 | AH16: 6.4461531 | AI16: 10.489541 | AJ16: 13.415091 | AK16: 16.929063
... A33: Activities of Households | B33: 2.6609965 | C33: 2.8320844 | D33: 2.924144 | E33: 2.936326 | F33: 2.8680716 | G33: 2.818773 | H33: 2.7883234 | I33: 2.776886 | J33: 2.7843704 | K33: 2.7881906 | L33: 2.7883971 | M33: 2.7846182 | N33: 2.776885 | O33: 2.7669055 | P33: 2.7550021 | Q33: 2.7409598 | R33: 2.7246889 | S33: 2.7139813 | T33: 2.7350163 | U33: 2.7613682 | V33: 2.767027 | W33: 2.7663441 | X33: 2.7596131 | Y33: 2.7465927 | Z33: 2.7271632 | AA33: 2.7142034 | AB33: 2.7339014 | AC33: 2.7598254 | AD33: 2.7659861 | AE33: 2.7659177 | AF33: 2.759914 | AG33: 2.7477363 | AH33: 2.729262 | AI33: 2.7158552 | AJ33: 2.7336983 | AK33: 2.7563359
A35: ADJUSTMENTS
A36: Taxes on products | B36: 10.604421 | C36: 4.5985732 | D36: 17.953651 | E36: 10.804192 | F36: 7.1484302 | G36: 10.453864 | H36: -0.66306107 | I36: 1.3702883 | J36: -0.61078733 | K36: 3.2552983 | L36: 10.00324 | M36: 5.044483 | N36: 11.026391 | O36: 9.535794 | P36: -0.67574803 | Q36: -24.997721 | R36: -3.3582876 | S36: -4.5905031 | T36: -3.5545582 | U36: 47.741356 | V36: -1.7056382 | W36: 8.453615 | X36: 21.819967 | Y36: 2.6241571 | Z36: 17.806552 | AA36: 5.1403958 | AB36: 4.1100754 | AC36: 11.125298 | AD36: 13.913662 | AE36: 6.9502737 | AF36: 6.8429801 | AG36: 3.7987589 | AH36: 10.556979 | AI36: 9.3531628 | AJ36: 5.4594994 | AK36: 7.9766044
A37: Source: Uganda Bureau of Statistics

Sheet Original_IPD
A1: Table 5: ORIGINAL UNADJUSTED Value Added by activity at constant 2016/17 prices, IMPLICIT PRICE DEFLATORS, 2016/17-2024/25 | B1: Table 5: ORIGINAL UNADJUSTED Value Added by activity at constant 2016/17 prices, IMPLICIT PRICE DEFLATORS, 2016/17-2021/22
B3: 2016/17 | F3: 2017/18 | J3: 2018/19 | N3: 2019/20 | R3: 2020/21 | V3: 2021/22 | Z3: 2022/23 | AD3: 2023/24 | AH3: 2024/25
B4: Q1 | C4: Q2 | D4: Q3 | E4: Q4 | F4: Q1 | G4: Q2 | H4: Q3 | I4: Q4 | J4: Q1 | K4: Q2 | L4: Q3 | M4: Q4 | N4: Q1 | O4: Q2 | P4: Q3 | Q4: Q4 | R4: Q1 | S4: Q2 | T4: Q3 | U4: Q4 | V4: Q1 | W4: Q2 | X4: Q3 | Y4: Q4 | Z4: Q1 | AA4: Q2 | AB4: Q3 | AC4: Q4 | AD4: Q1 | AE4: Q2 | AF4: Q3 | AG4: Q4 | AH4: Q1 | AI4: Q2 | AJ4: Q3 | AK4: Q4
A5: GDP AT MARKET PRICES | B5: 97.215823 | C5: 99.797176 | D5: 101.85508 | E5: 101.33935 | F5: 102.26668 | G5: 100.32084 | H5: 106.43321 | I5: 108.94614 | J5: 105.1789 | K5: 107.41311 | L5: 108.25577 | M5: 109.62405 | N5: 108.59676 | O5: 112.11946 | P5: 111.87076 | Q5: 109.57104 | R5: 111.82173 | S5: 113.61262 | T5: 113.49591 | U5: 114.4473 | V5: 115.63152 | W5: 117.1572 | X5: 120.0134 | Y5: 122.91386 | Z5: 124.84147 | AA5: 124.93639 | AB5: 125.78472 | AC5: 132.08543 | AD5: 131.54915 | AE5: 132.2462 | AF5: 133.374 | AG5: 135.76118 | AH5: 136.73219 | AI5: 138.87404 | AJ5: 140.90425 | AK5: 144.28982 | AL5: 0.05645966
A6: AGRICULTURE,FORESTRY&FISHING | B6: 99.737591 | C6: 100.23805 | D6: 101.19892 | E6: 99.033024 | F6: 102.1439 | G6: 94.090338 | H6: 110.99282 | I6: 116.61138 | J6: 100.94099 | K6: 106.60954 | L6: 112.26615 | M6: 116.33678 | N6: 109.16234 | O6: 119.14173 | P6: 116.55238 | Q6: 113.09189 | R6: 111.07629 | S6: 116.78862 | T6: 113.68912 | U6: 122.1793 | V6: 116.82539 | W6: 125.0172 | X6: 124.38747 | Y6: 126.6944 | Z6: 126.58569 | AA6: 130.34647 | AB6: 131.35657 | AC6: 143.46148 | AD6: 131.14156 | AE6: 138.67726 | AF6: 149.14618 | AG6: 156.966 | AH6: 144.07441 | AI6: 155.77019 | AJ6: 173.5618 | AK6: 169.31848
